BEGIN:VCALENDAR
VERSION:2.0
PRODID:-//NUJ Leeds and West Yorkshire - ECPv6.15.20//NONSGML v1.0//EN
CALSCALE:GREGORIAN
METHOD:PUBLISH
X-ORIGINAL-URL:https://nujleeds.org.uk
X-WR-CALDESC:Events for NUJ Leeds and West Yorkshire
REFRESH-INTERVAL;VALUE=DURATION:PT1H
X-Robots-Tag:noindex
X-PUBLISHED-TTL:PT1H
BEGIN:VTIMEZONE
TZID:Europe/London
BEGIN:DAYLIGHT
TZOFFSETFROM:+0000
TZOFFSETTO:+0100
TZNAME:BST
DTSTART:20260329T010000
END:DAYLIGHT
BEGIN:STANDARD
TZOFFSETFROM:+0100
TZOFFSETTO:+0000
TZNAME:GMT
DTSTART:20261025T010000
END:STANDARD
BEGIN:DAYLIGHT
TZOFFSETFROM:+0000
TZOFFSETTO:+0100
TZNAME:BST
DTSTART:20270328T010000
END:DAYLIGHT
BEGIN:STANDARD
TZOFFSETFROM:+0100
TZOFFSETTO:+0000
TZNAME:GMT
DTSTART:20271031T010000
END:STANDARD
BEGIN:DAYLIGHT
TZOFFSETFROM:+0000
TZOFFSETTO:+0100
TZNAME:BST
DTSTART:20280326T010000
END:DAYLIGHT
BEGIN:STANDARD
TZOFFSETFROM:+0100
TZOFFSETTO:+0000
TZNAME:GMT
DTSTART:20281029T010000
END:STANDARD
END:VTIMEZONE
BEGIN:VEVENT
DTSTART;TZID=Europe/London:20270224T190000
DTEND;TZID=Europe/London:20270224T213000
DTSTAMP:20260421T122416
CREATED:20260313T111439Z
LAST-MODIFIED:20260313T111516Z
UID:1910-1803495600-1803504600@nujleeds.org.uk
SUMMARY:DM amendments
DESCRIPTION:This meeting is to discuss amendments to NUJ DM motions.
URL:https://nujleeds.org.uk/event/dm-amendments
LOCATION:Zoom
CATEGORIES:Other meetings
ATTACH;FMTTYPE=image/svg+xml:https://nujleeds.org.uk/wp-content/uploads/2024/11/4127_NUJ_LEEDS_GREY_CMYK_trans.svg
END:VEVENT
END:VCALENDAR